BEGIN:VCALENDAR
VERSION:2.0
PRODID:-//wp-events-plugin.com//7.2.1//EN
TZID:America/Toronto
X-WR-TIMEZONE:America/Toronto
BEGIN:VEVENT
UID:6398@stittsvillecentral.ca
DTSTART;TZID=America/Toronto:20251018T090000
DTEND;TZID=America/Toronto:20251018T120000
DTSTAMP:20251014T034356Z
URL:https://stittsvillecentral.ca/events/eco-west-enders-tree-planting-eve
 nt/
SUMMARY:Eco West Enders-City of Ottawa Tree Planting Event
DESCRIPTION:&nbsp\;\n\nEco West Enders has partnered with the City of Ottaw
 a to help with reforestation efforts in the community. Help to plant 175 t
 rees in Stittsville.\n\nThe City will provide all necessary equipment for 
 planting\, including shovels and mulch. Volunteers are encouraged to dress
  for the weather (as it will go ahead rain or shine) and bring gloves if n
 eeded. For more information contact kirri.lean@gmail.com.
CATEGORIES:Charitable Organization,Community Event,Kids &amp;
 Family,Nature &amp; Environment,Seniors,Youth
LOCATION:CARDELRec Complex-Goulbourn\, 1500 Shea Road\, Stittsville\, Canad
 a
X-APPLE-STRUCTURED-LOCATION;VALUE=URI;X-ADDRESS=1500 Shea Road\, Stittsvill
 e\, Canada;X-APPLE-RADIUS=100;X-TITLE=CARDELRec Complex-Goulbourn:geo:0,0
END:VEVENT
BEGIN:VTIMEZONE
TZID:America/Toronto
X-LIC-LOCATION:America/Toronto
BEGIN:DAYLIGHT
DTSTART:20250309T030000
TZOFFSETFROM:-0500
TZOFFSETTO:-0400
TZNAME:EDT
END:DAYLIGHT
END:VTIMEZONE
END:VCALENDAR