BEGIN:VCALENDAR
VERSION:2.0
PRODID:-//wp-events-plugin.com//7.2.1//EN
TZID:America/Toronto
X-WR-TIMEZONE:America/Toronto
BEGIN:VEVENT
UID:2518@stittsvillecentral.ca
DTSTART;TZID=America/Toronto:20171118T100000
DTEND;TZID=America/Toronto:20171118T160000
DTSTAMP:20171109T004751Z
URL:https://stittsvillecentral.ca/events/holiday-craft-and-vendor-fair/
SUMMARY:Holiday Craft and Vendor Fair
DESCRIPTION:Holiday Craft and Vendor Fair on November 18th\n\nFree Admissio
 n\n\nArtisans and Vendors from Ottawa and surrounding areas will gather at
  the Stittsville Legion in a fundraising event hosted by Stittsville Child
 care Centre.\n\nExcellent opportunity to do your Christmas shopping!\n\n&n
 bsp\;
CATEGORIES:Arts &amp; Crafts
LOCATION:The Stittsville Legion Hall\, 1481 Stittsville Main Street\, Stitt
 sville\, Ontario\, K2S1E3\, West Ottawa\, Canada
GEO:45.2596196;-75.92140999999998
X-APPLE-STRUCTURED-LOCATION;VALUE=URI;X-ADDRESS=1481 Stittsville Main Stree
 t\, Stittsville\, Ontario\, K2S1E3\, West Ottawa\, Canada;X-APPLE-RADIUS=1
 00;X-TITLE=The Stittsville Legion Hall:geo:45.2596196,-75.92140999999998
END:VEVENT
BEGIN:VTIMEZONE
TZID:America/Toronto
X-LIC-LOCATION:America/Toronto
BEGIN:STANDARD
DTSTART:20171105T010000
TZOFFSETFROM:-0400
TZOFFSETTO:-0500
TZNAME:EST
END:STANDARD
END:VTIMEZONE
END:VCALENDAR