BEGIN:VCALENDAR
VERSION:2.0
PRODID:-//wp-events-plugin.com//7.2.1//EN
TZID:America/Toronto
X-WR-TIMEZONE:America/Toronto
BEGIN:VEVENT
UID:6507@stittsvillecentral.ca
DTSTART;TZID=America/Toronto:20260430T180000
DTEND;TZID=America/Toronto:20260430T200000
DTSTAMP:20260423T031217Z
URL:https://stittsvillecentral.ca/events/stittsville-business-association-
 after-5-exchange-5/
SUMMARY:Stittsville Business Association - After 5 Exchange
DESCRIPTION:&nbsp\;\nDon’t miss the SBA's guest speaker\, Stittsville’s
  own Collinda Joseph\, who recently brought home a Gold Medal with Team Ca
 nada’s Wheelchair Curling team at the 2026 Milano-Cortina Paralympics in
  Italy.\nJoin us for an evening of networking\, connection and community w
 ith fellow local business owners.\nFREE for SBA Members / $20 for Non-Memb
 ers\n\nRegister here: https://simpli.events/e/April2026After5Exchange
CATEGORIES:Business,Community Event,Food,Networking
LOCATION:Amberwood Lounge & Eatery (ALE)\, 54 Springbrook Drive\, Stittsvil
 le\, Ontario\, Canada
GEO:45.2712729;-75.92371650000001
X-APPLE-STRUCTURED-LOCATION;VALUE=URI;X-ADDRESS=54 Springbrook Drive\, Stit
 tsville\, Ontario\, Canada;X-APPLE-RADIUS=100;X-TITLE=Amberwood Lounge & E
 atery (ALE):geo:45.2712729,-75.92371650000001
END:VEVENT
BEGIN:VTIMEZONE
TZID:America/Toronto
X-LIC-LOCATION:America/Toronto
BEGIN:DAYLIGHT
DTSTART:20260308T030000
TZOFFSETFROM:-0500
TZOFFSETTO:-0400
TZNAME:EDT
END:DAYLIGHT
END:VTIMEZONE
END:VCALENDAR