BEGIN:VCALENDAR
VERSION:2.0
PRODID:-//wp-events-plugin.com//7.2.1//EN
TZID:America/Toronto
X-WR-TIMEZONE:America/Toronto
BEGIN:VEVENT
UID:6508@stittsvillecentral.ca
DTSTART;TZID=America/Toronto:20260512T080000
DTEND;TZID=America/Toronto:20260512T100000
DTSTAMP:20260423T041930Z
URL:https://stittsvillecentral.ca/events/stittsville-business-association-
 coffee-collab-6/
SUMMARY:Stittsville Business Association - Coffee Collab
DESCRIPTION:&nbsp\;\n\nStart your morning with SBA members\, great coffee a
 nd even better conversations while checking out Stittsville’s newest reh
 earsal and event space!\n\nRegister here: https://simpli.events/e/May2026C
 offeeCollab
CATEGORIES:Business,Community Event,Food,Networking
LOCATION:Space and Time Studios\, 5977 Hazeldean Road\, 2nd Floor\, Stittsv
 ille\, Ontario\, Canada
X-APPLE-STRUCTURED-LOCATION;VALUE=URI;X-ADDRESS=5977 Hazeldean Road\, 2nd F
 loor\, Stittsville\, Ontario\, Canada;X-APPLE-RADIUS=100;X-TITLE=Space and
  Time Studios:geo:0,0
END:VEVENT
BEGIN:VTIMEZONE
TZID:America/Toronto
X-LIC-LOCATION:America/Toronto
BEGIN:DAYLIGHT
DTSTART:20260308T030000
TZOFFSETFROM:-0500
TZOFFSETTO:-0400
TZNAME:EDT
END:DAYLIGHT
END:VTIMEZONE
END:VCALENDAR