BEGIN:VCALENDAR
VERSION:2.0
PRODID:-//wp-events-plugin.com//7.2.1//EN
TZID:America/Toronto
X-WR-TIMEZONE:America/Toronto
BEGIN:VEVENT
UID:5943@stittsvillecentral.ca
DTSTART;TZID=America/Toronto:20240512T090000
DTEND;TZID=America/Toronto:20240512T130000
DTSTAMP:20240502T230418Z
URL:https://stittsvillecentral.ca/events/stittsville-market-at-the-barn-se
 ason-opening-day/
SUMMARY:Stittsville Market at the Barn - Season Opening Day
DESCRIPTION:&nbsp\;\nWe're opening for the Season! Stittsville Market at t
 he Barn is Stittsville's very own Farmer's Market where we highlight local
 ly grown\, raised\, produced\, and hand crafted products.\n\nPayment - som
 e vendors accept e-transfers\, debit\, credit\, or cash. Public parking i
 s available off of main street next to Pet Agree Grooming.\n\nHere are the
  vendors who will be joining us at the Barn outside and inside on May 12th
  from 9-1 (live music as well):\n\n\nLive music: Serena\nDon't forget to v
 isit all the great vendors inside the Barn as well!\n\n\n1818 Farm and Cid
 eryAmanda's ArtAncestraBack of the MoonBeckwith VeggiesCampbells FolkArtCo
 co's CuisineCrocheting GiraffeDaisies and ThymeDelights by MamaFlowing Sou
 l CircleGladiolus Jewelry and GiftsHolmespun Ice CreamHoney MistKavanagh F
 armLachapelle Farm &amp\; StudioMang-nificent CreationsMargaret Wilson - B
 aby BlanketsMike's BakingMyPlutoDesignsPaws ApparelPestle &amp\; Pods IncR
 esinate by DominiqueRosemary and Fleur CandlesSix's Kitchen Hot SauceStret
 ch SandwichesSugar Tarts BakeryThe Tumbling PrincessesYour Bread Box\n
CATEGORIES:Agriculture,Arts &amp; Crafts,Business,Food,Music,Shopping
LOCATION:Stittsville Market at the Barn\, 6154 Abbott Street\, East\, Stitt
 sville\, Canada
X-APPLE-STRUCTURED-LOCATION;VALUE=URI;X-ADDRESS=6154 Abbott Street\, East\,
  Stittsville\, Canada;X-APPLE-RADIUS=100;X-TITLE=Stittsville Market at the
  Barn:geo:0,0
END:VEVENT
BEGIN:VTIMEZONE
TZID:America/Toronto
X-LIC-LOCATION:America/Toronto
BEGIN:DAYLIGHT
DTSTART:20240310T030000
TZOFFSETFROM:-0500
TZOFFSETTO:-0400
TZNAME:EDT
END:DAYLIGHT
END:VTIMEZONE
END:VCALENDAR