BEGIN:VCALENDAR
VERSION:2.0
PRODID:-//wp-events-plugin.com//7.2.1//EN
TZID:America/Toronto
X-WR-TIMEZONE:America/Toronto
BEGIN:VEVENT
UID:6396@stittsvillecentral.ca
DTSTART;TZID=America/Toronto:20251025T170000
DTEND;TZID=America/Toronto:20251025T200000
DTSTAMP:20251013T204738Z
URL:https://stittsvillecentral.ca/events/trick-or-treat-with-the-mayor-in-
 support-of-the-ottawa-food-banks-baby-basics-program/
SUMMARY:Trick or Treat with the Mayor in support of the Ottawa Food Bank’
 s Baby Basics Program
DESCRIPTION:&nbsp\;\n\nSpooky season is upon us! So come Trick or Treat wit
 h Mayor Mark Sutcliffe at Ottawa City Hall…if you dare! Witches and reap
 ers guard the entrance to the Heritage Building\, leading you from treat t
 o treat down its shadowy halls where villains lurk\, ghosts whisper\, and 
 wonderful magic stirs.\n\nBeyond the haunted doors\, the courtyard glows w
 ith a pumpkin patch and costumed characters from worlds both heroic and en
 chanted\, waiting to surprise you under the moonlit sky.\n\nSomething spoo
 ky\, something sweet - this is one Halloween at City Hall you won’t want
  to miss!\n\nThe City of Ottawa is proud to partner with Treat Accessibly
  to help make trick-or-treating accessible and inclusive for everyone.\n\
 nAdmission: A non-perishable item or cash donation to the Ottawa Food Ba
 nk’s Baby Basics Program is recommended.\n\nThe Ottawa Food Bank’s Ba
 by Basics Program helps parents in need by providing high-demand items suc
 h as formula\, baby food and diapers. Chronic shortages of these basic nee
 ds make stocking baby supplies one of the Food Bank’s most expensive\, b
 ut most precious priorities.\n\nPlease email ProtocolRSVP@ottawa.ca to a
 dvise us of any accessibility-related accommodation.\n\nSecurity screening
  will be required for entry. Please note this is not a nut-free event.\n\n
 Dress for the cold weather as the queue to enter the Heritage Building fro
 m Lisgar Street will be outdoors and the event will proceed rain or shine.
  Please bring your own treat bag.
CATEGORIES:Community Event,Entertainment,Food,Fundraisers,Halloween,Kids
 &amp; Family
LOCATION:Ottawa City Hall\, 110 Laurier Avenue West\, Ottawa\, Ontario\, K1
 P 1J1\, Canada
GEO:45.4212721;-75.6899788
X-APPLE-STRUCTURED-LOCATION;VALUE=URI;X-ADDRESS=110 Laurier Avenue West\, O
 ttawa\, Ontario\, K1P 1J1\, Canada;X-APPLE-RADIUS=100;X-TITLE=Ottawa City 
 Hall:geo:45.4212721,-75.6899788
END:VEVENT
BEGIN:VTIMEZONE
TZID:America/Toronto
X-LIC-LOCATION:America/Toronto
BEGIN:DAYLIGHT
DTSTART:20250309T030000
TZOFFSETFROM:-0500
TZOFFSETTO:-0400
TZNAME:EDT
END:DAYLIGHT
END:VTIMEZONE
END:VCALENDAR