BEGIN:VCALENDAR
VERSION:2.0
PRODID:-//wp-events-plugin.com//7.2.1//EN
TZID:America/Toronto
X-WR-TIMEZONE:America/Toronto
BEGIN:VEVENT
UID:6506@stittsvillecentral.ca
DTSTART;TZID=America/Toronto:20260502T160000
DTEND;TZID=America/Toronto:20260502T190000
DTSTAMP:20260421T213741Z
URL:https://stittsvillecentral.ca/events/west-ottawa-soccer-club-womens-ho
 me-opener/
SUMMARY:West Ottawa Soccer Club - Women's Home Opener
DESCRIPTION:&nbsp\;\n\nThe West Ottawa Soccer Club (based in Stittsville/Ka
 nata) has joined Quebec's LS PRO semi-professional league.\n\nThe women's 
 team has their home opener at Beckwith Park near Carleton Place against Mi
 stral de Sherbrooke.\n\nAdmission is free. Come out and cheer on our elite
  women!!
CATEGORIES:Community Event,Kids &amp; Family,Seniors,Sports &amp;
 Recreation,Youth
LOCATION:Beckwith Park\, 1319 Beckwith 9th Line\, Carleton Place\, Ontario\
 , Canada
X-APPLE-STRUCTURED-LOCATION;VALUE=URI;X-ADDRESS=1319 Beckwith 9th Line\, Ca
 rleton Place\, Ontario\, Canada;X-APPLE-RADIUS=100;X-TITLE=Beckwith Park:g
 eo:0,0
END:VEVENT
BEGIN:VTIMEZONE
TZID:America/Toronto
X-LIC-LOCATION:America/Toronto
BEGIN:DAYLIGHT
DTSTART:20260308T030000
TZOFFSETFROM:-0500
TZOFFSETTO:-0400
TZNAME:EDT
END:DAYLIGHT
END:VTIMEZONE
END:VCALENDAR